BEGIN:VCALENDAR
VERSION:2.0
PRODID:-//Innovation Cluster - ECPv6.15.20//NONSGML v1.0//EN
CALSCALE:GREGORIAN
METHOD:PUBLISH
X-ORIGINAL-URL:https://innovationcluster.com.au
X-WR-CALDESC:Events for Innovation Cluster
REFRESH-INTERVAL;VALUE=DURATION:PT1H
X-Robots-Tag:noindex
X-PUBLISHED-TTL:PT1H
BEGIN:VTIMEZONE
TZID:Australia/Perth
BEGIN:STANDARD
TZOFFSETFROM:+0800
TZOFFSETTO:+0800
TZNAME:AWST
DTSTART:20220101T000000
END:STANDARD
END:VTIMEZONE
BEGIN:VEVENT
DTSTART;VALUE=DATE:20230501
DTEND;VALUE=DATE:20230503
DTSTAMP:20260422T060959
CREATED:20230317T062743Z
LAST-MODIFIED:20230317T063245Z
UID:3274-1682899200-1683071999@innovationcluster.com.au
SUMMARY:HARVEST Program Commences
DESCRIPTION:HARVEST Program commences with two-day business bootcamp @ Muresk
URL:https://innovationcluster.com.au/event/harvest-program-commences/
ATTACH;FMTTYPE=image/png:https://innovationcluster.com.au/wp-content/uploads/2023/02/Harvest-logo-cropped.png
END:VEVENT
END:VCALENDAR