BEGIN:VCALENDAR
VERSION:2.0
PRODID:-//Innovation Cluster - ECPv6.15.20//NONSGML v1.0//EN
CALSCALE:GREGORIAN
METHOD:PUBLISH
X-ORIGINAL-URL:https://innovationcluster.com.au
X-WR-CALDESC:Events for Innovation Cluster
REFRESH-INTERVAL;VALUE=DURATION:PT1H
X-Robots-Tag:noindex
X-PUBLISHED-TTL:PT1H
BEGIN:VTIMEZONE
TZID:Australia/Perth
BEGIN:STANDARD
TZOFFSETFROM:+0800
TZOFFSETTO:+0800
TZNAME:AWST
DTSTART:20220101T000000
END:STANDARD
END:VTIMEZONE
BEGIN:VEVENT
DTSTART;TZID=Australia/Perth:20230413T170000
DTEND;TZID=Australia/Perth:20230413T170000
DTSTAMP:20260422T074906
CREATED:20230324T030523Z
LAST-MODIFIED:20230324T030523Z
UID:3322-1681405200-1681405200@innovationcluster.com.au
SUMMARY:Applications Close for London Tech Week
DESCRIPTION:WA tech startups can apply to be part of a delegation at London Tech Week\, designed to showcase how tech is transforming business and society\, and bring the tech ecosystem together to drive change.\nThe Western Australian Government\, through Invest and Trade WA (ITWA)\, will support up to 10 WA technology startups to join a trade mission to the United Kingdom for LTW 2023\, from 12 to 16 June.\n\n\nWA tech startups ready to expand into European markets are likely to find it beneficial. \nCompanies will be selected through a competitive expression of interest (EOI) process. Candidates should explain how participating in London Tech Week will benefit your business. \nThe mission will assist WA companies to scale up and access the talent\, funding and customers they need to grow. It will also raise awareness of Western Australian technology and solutions capabilities\, to attract talent\, businesses and investors to WA. \nSuccessful companies will be provided with exclusive opportunities\, including: \n\nA pre-mission briefing in Perth with presentations from key WA Government leaders\, including ITWA.\nA welcome reception hosted by the Western Australian Government Office in London (WAGO).\nA business networking event with an opportunity to engage with delegates from other Australian jurisdictions.\nWorkshops hosted by the UK’s Department of International Trade (DIT)\, including a regional session\, and a session on the Global Entrepreneur Programme.\nA DIT workshop about the UK opportunity and free trade agreement outcomes for business.\nNetworking evenings.\nAdditional bespoke meetings with key London stakeholders facilitated by DIT.\nBusiness matching and venture capital support.\n\nTravel\, accommodation\, insurance\, meals and on-ground expenses are at the cost of the delegate. \n\nApply here: https://www.wa.gov.au/government/announcements/expressions-of-interest-london-tech-week
URL:https://innovationcluster.com.au/event/applications-close-for-london-tech-week/
ATTACH;FMTTYPE=image/png:https://innovationcluster.com.au/wp-content/uploads/2023/03/337151776_591209899560402_4208896175721065965_n.png
END:VEVENT
END:VCALENDAR