BEGIN:VCALENDAR
VERSION:2.0
PRODID:-//Innovation Cluster - ECPv6.15.20//NONSGML v1.0//EN
CALSCALE:GREGORIAN
METHOD:PUBLISH
X-ORIGINAL-URL:https://innovationcluster.com.au
X-WR-CALDESC:Events for Innovation Cluster
REFRESH-INTERVAL;VALUE=DURATION:PT1H
X-Robots-Tag:noindex
X-PUBLISHED-TTL:PT1H
BEGIN:VTIMEZONE
TZID:Australia/Perth
BEGIN:STANDARD
TZOFFSETFROM:+0800
TZOFFSETTO:+0800
TZNAME:AWST
DTSTART:20220101T000000
END:STANDARD
END:VTIMEZONE
BEGIN:VEVENT
DTSTART;TZID=Australia/Perth:20230330T170000
DTEND;TZID=Australia/Perth:20230330T170000
DTSTAMP:20260422T074519
CREATED:20230317T050023Z
LAST-MODIFIED:20230317T062644Z
UID:3270-1680195600-1680195600@innovationcluster.com.au
SUMMARY:Applications Close for HARVEST
DESCRIPTION:Are you an agtech startup?\nA farmer who has developed new technology?\nA researcher looking to commercialise your innovation?\nOr a business looking to apply their technology in the agricultural sector?\n\nApplications are now open for HARVEST\, WA’s leading agtech business program for businesses looking to innovate in the Agtech industry.  Now in its sixth year\, HARVEST has supported over 70 businesses.The program is valued at over $10\,000 and is FREE for successful applicants.\nApplications close 5pm 30th March 2023\nApply here: https://innovationcluster.ac-page.com/harvest-application-2023
URL:https://innovationcluster.com.au/event/applications-close-for-harvest/
ATTACH;FMTTYPE=image/png:https://innovationcluster.com.au/wp-content/uploads/2023/02/Harvest-logo-cropped.png
END:VEVENT
END:VCALENDAR