BEGIN:VCALENDAR
VERSION:2.0
PRODID:-//Innovation Cluster - ECPv6.15.20//NONSGML v1.0//EN
CALSCALE:GREGORIAN
METHOD:PUBLISH
X-ORIGINAL-URL:https://innovationcluster.com.au
X-WR-CALDESC:Events for Innovation Cluster
REFRESH-INTERVAL;VALUE=DURATION:PT1H
X-Robots-Tag:noindex
X-PUBLISHED-TTL:PT1H
BEGIN:VTIMEZONE
TZID:Australia/Perth
BEGIN:STANDARD
TZOFFSETFROM:+0800
TZOFFSETTO:+0800
TZNAME:AWST
DTSTART:20200101T000000
END:STANDARD
END:VTIMEZONE
BEGIN:VEVENT
DTSTART;TZID=Australia/Perth:20210507T093000
DTEND;TZID=Australia/Perth:20210507T110000
DTSTAMP:20260425T055639
CREATED:20210504T030730Z
LAST-MODIFIED:20210504T030902Z
UID:803-1620379800-1620385200@innovationcluster.com.au
SUMMARY:Growing an agrifood startup in Australia
DESCRIPTION:Hear from top tier speakers about funding and support opportunities available from grants to accelerator programs\, and you will also get the lowdown on the evokeAG Startup Network Program and why you should apply. Hosted by AgriStart & evokeAG\n\n\nSpeakers:\nDr Natasha Teakle\, AgriStart Pty Ltd\nJohn Harvey\, AgriFutures Australia\nFernando Felquer\, GrainInnovate\nMichael Macolino\, BDO Australia\nMatthew Pryor\, Tenacious Ventures
URL:https://innovationcluster.com.au/event/growing-an-agrifood-startup-in-australia/
ATTACH;FMTTYPE=image/jpeg:https://innovationcluster.com.au/wp-content/uploads/2021/05/Webinar-one_Growing-an-agrifood-tech-startup-in-Australia_square-e1620097721563.jpg
ORGANIZER;CN="AgriStart":MAILTO:info@innovationcluster.com.au
END:VEVENT
BEGIN:VEVENT
DTSTART;VALUE=DATE:20210517
DTEND;VALUE=DATE:20210518
DTSTAMP:20260425T055639
CREATED:20210504T031951Z
LAST-MODIFIED:20210504T224918Z
UID:808-1621209600-1621295999@innovationcluster.com.au
SUMMARY:Start Up Network Applications Close
DESCRIPTION:AgriStart has joined forces with evokeAG to bring agrifood innovators the Startup Network Program.\n\n\nThe program aims to build the networks and capability of Australian agrifood startups to support adoption of new technologies on-farm.\n\n\nSuccessful participants will receive a travel bursary\, and will participate in a pitchcraft workshop\, and an adoption workshop alongside growers and will culminate in a pitch event directly to growers.\n\n\nApplications close  Monday 17th May\, 3pm AWST.  Find all the details here > https://bit.ly/2QxWfWI
URL:https://innovationcluster.com.au/event/start-up-network-applications-close/
ATTACH;FMTTYPE=image/jpeg:https://innovationcluster.com.au/wp-content/uploads/2021/05/Applications-close_square-scaled-e1620098435166.jpg
ORGANIZER;CN="AgriStart":MAILTO:info@innovationcluster.com.au
END:VEVENT
BEGIN:VEVENT
DTSTART;VALUE=DATE:20210525
DTEND;VALUE=DATE:20210526
DTSTAMP:20260425T055639
CREATED:20210504T225218Z
LAST-MODIFIED:20210504T225321Z
UID:867-1621900800-1621987199@innovationcluster.com.au
SUMMARY:Innovation Vouchers Program Closes
DESCRIPTION:The Innovation Vouchers Program is an initiative of the WA Government’s New Industries Fund\, which assists start-ups and small businesses to commercialise their ideas and innovations and expand to create jobs. \nApply here
URL:https://innovationcluster.com.au/event/innovation-vouchers-program/
ATTACH;FMTTYPE=image/jpeg:https://innovationcluster.com.au/wp-content/uploads/2021/05/2104-025_Innovation-Vouchers-EDM-Open-now.jpg
END:VEVENT
BEGIN:VEVENT
DTSTART;TZID=Australia/Perth:20210525T093000
DTEND;TZID=Australia/Perth:20210525T113000
DTSTAMP:20260425T055639
CREATED:20210504T225706Z
LAST-MODIFIED:20210504T225759Z
UID:871-1621935000-1621942200@innovationcluster.com.au
SUMMARY:Collie CONNECT Tech and Innovation Series - Financial Resilience
DESCRIPTION:Our first Tech and Innovation Series event will kick off on Thursday 20th May at Slay Space at Black Diamond Lodge in Collie. Registration essential  Register Here.
URL:https://innovationcluster.com.au/event/871/
ATTACH;FMTTYPE=image/jpeg:https://innovationcluster.com.au/wp-content/uploads/2021/05/Collie-CONNECT-Technology-and-Innovation-Series-Banner.jpg
ORGANIZER;CN="Innovation Cluster":MAILTO:info@innovationcluster.com.au
END:VEVENT
END:VCALENDAR