BEGIN:VCALENDAR
VERSION:2.0
PRODID:-//Innovation Cluster - ECPv6.15.20//NONSGML v1.0//EN
CALSCALE:GREGORIAN
METHOD:PUBLISH
X-ORIGINAL-URL:https://innovationcluster.com.au
X-WR-CALDESC:Events for Innovation Cluster
REFRESH-INTERVAL;VALUE=DURATION:PT1H
X-Robots-Tag:noindex
X-PUBLISHED-TTL:PT1H
BEGIN:VTIMEZONE
TZID:Australia/Perth
BEGIN:STANDARD
TZOFFSETFROM:+0800
TZOFFSETTO:+0800
TZNAME:AWST
DTSTART:20250101T000000
END:STANDARD
END:VTIMEZONE
BEGIN:VEVENT
DTSTART;TZID=Australia/Perth:20260429T090000
DTEND;TZID=Australia/Perth:20260429T140000
DTSTAMP:20260425T201516
CREATED:20260423T032332Z
LAST-MODIFIED:20260423T032332Z
UID:10082-1777453200-1777471200@innovationcluster.com.au
SUMMARY:Agtech Innovation Workshop
DESCRIPTION:Agtech Innovation Workshop\nearlyHARVEST: A Pre-Accelerator program for early-stage innovators – students and researchers exploring commercialisation\, growers with innovation ideas\, and entrepreneurs solving problems for the agriculture industry. \nThis one day interactive workshop will provide networking opportunities for innovators in the Agtech sector\, exploring industry challenges\, identifying target customers\, refining value propositions\, and validating ideas. \n  \nDate: Wednesday 29th April 2026 \nTime: 9am – 2pm \nLocation: Wrays\, Level 7\, 863 Hay Street\, Perth \nFacilitator: Dr Tash Teakle\, Managing Director of AgriStart\, plus expert guest speakers \nMorning Tea & Lunch provided \n  \nTopics Covered: \n\nAgtech sector challenges and opportunities\nTarget customers across the ag industry value chain\nValue propositions for agricultural end users\nValidation strategies tailored for ag industry stakeholders\nFunding\, investment and support services for commercialising agtech\nCreating and protecting Intellectual Property\nApplying for the HARVEST Agtech Accelerator program (currently open for applications)\n\n  \nThis is an invaluable session suitable for researchers looking to commercialise their innovations\, businesses looking to apply their technology in the agricultural sector\, and farmers wanting to trial new technology. \nRegister here and contact info@innovationcluster.com.au for more information. \nProudly supported by GRDC\, DEED\, DPIRD\, Wrays\, Radium Capital\, EZI \n  \nAnd will highlight the benefits of the HARVEST Agtech Accelerator program which is currently open for applications. 
URL:https://innovationcluster.com.au/event/agtech-innovation-workshop/
LOCATION:WA
ATTACH;FMTTYPE=image/webp:https://innovationcluster.com.au/wp-content/uploads/2026/04/095f9c66-6594-48de-93f9-f50c5a38c8ed.png@responsive-500.webp
END:VEVENT
END:VCALENDAR