BEGIN:VCALENDAR
VERSION:2.0
PRODID:-//Innovation Cluster - ECPv6.15.20//NONSGML v1.0//EN
CALSCALE:GREGORIAN
METHOD:PUBLISH
X-ORIGINAL-URL:https://innovationcluster.com.au
X-WR-CALDESC:Events for Innovation Cluster
REFRESH-INTERVAL;VALUE=DURATION:PT1H
X-Robots-Tag:noindex
X-PUBLISHED-TTL:PT1H
BEGIN:VTIMEZONE
TZID:Australia/Perth
BEGIN:STANDARD
TZOFFSETFROM:+0800
TZOFFSETTO:+0800
TZNAME:AWST
DTSTART:20240101T000000
END:STANDARD
END:VTIMEZONE
BEGIN:VTIMEZONE
TZID:Australia/Melbourne
BEGIN:STANDARD
TZOFFSETFROM:+1100
TZOFFSETTO:+1000
TZNAME:AEST
DTSTART:20250405T160000
END:STANDARD
BEGIN:DAYLIGHT
TZOFFSETFROM:+1000
TZOFFSETTO:+1100
TZNAME:AEDT
DTSTART:20251004T160000
END:DAYLIGHT
BEGIN:STANDARD
TZOFFSETFROM:+1100
TZOFFSETTO:+1000
TZNAME:AEST
DTSTART:20260404T160000
END:STANDARD
BEGIN:DAYLIGHT
TZOFFSETFROM:+1000
TZOFFSETTO:+1100
TZNAME:AEDT
DTSTART:20261003T160000
END:DAYLIGHT
BEGIN:STANDARD
TZOFFSETFROM:+1100
TZOFFSETTO:+1000
TZNAME:AEST
DTSTART:20270403T160000
END:STANDARD
BEGIN:DAYLIGHT
TZOFFSETFROM:+1000
TZOFFSETTO:+1100
TZNAME:AEDT
DTSTART:20271002T160000
END:DAYLIGHT
END:VTIMEZONE
BEGIN:VEVENT
DTSTART;TZID=Australia/Perth:20250224T170000
DTEND;TZID=Australia/Perth:20250224T170000
DTSTAMP:20260422T061356
CREATED:20241129T065426Z
LAST-MODIFIED:20250211T021934Z
UID:6632-1740416400-1740416400@innovationcluster.com.au
SUMMARY:Entries Close for Future Founders
DESCRIPTION:Calling all young entrepreneurs!\nThe 2025 Future Founders Youth Entrepreneurship Program is now open for applications! \nThis FREE program is designed to empower local youth aged 16+ with the skills\, knowledge\, and mentorship to turn their ideas into reality. Plus\, every participant will receive a $1\,000 scholarship upon completion to help bring their business dreams to life! \nKey Dates for 2025: \n\nApplications close: 5:00 PM\, Monday\, 24 February 2025\nAfterschool Workshops & site visits: March–May 2025\nGraduate Showcase Event: May 2025\n\nApply now: https://innovationcluster.com.au/future-founders-program/ \nThis program is supported by the X-TEND WA grant from the Department of Jobs\, Tourism\, Science\, and Innovation. \nLet’s empower the next generation of innovators! \nFor more info\, contact info@innovationcluster.com.au
URL:https://innovationcluster.com.au/event/entries-close-for-future-founders/
LOCATION:Western Australia
ATTACH;FMTTYPE=image/png:https://innovationcluster.com.au/wp-content/uploads/2024/11/Future-Founders-2025-graphic.png
ORGANIZER;CN="Innovation Cluster":MAILTO:info@innovationcluster.com.au
END:VEVENT
BEGIN:VEVENT
DTSTART;TZID=Australia/Perth:20250321T120000
DTEND;TZID=Australia/Perth:20250321T130000
DTSTAMP:20260422T061356
CREATED:20250313T032723Z
LAST-MODIFIED:20250313T032723Z
UID:6923-1742558400-1742562000@innovationcluster.com.au
SUMMARY:HARVEST AgTech Accelerator Info Session: Insights & Opportunities
DESCRIPTION:HARVEST is WA’s leading agtech business program for businesses looking to innovate in the Agtech industry. Now in its ninth year\, HARVEST has supported over 80 businesses. The program is valued at over $10\,000 and is FREE for successful applicants.\nWe are holding a FREE Online Information Session to those who are looking to gain further insight and ask questions about the program.🗓️ Friday the 21st of March @ 12pmJoin the call to hear direct from the following HARVEST alumni:\nMat Welch – Red Earth Pollen\nLucy Anderton – myFARMSMART\nTim Hopper – resonAg Pty Ltd \nTo see if the program is right for you\, register for the Online Information Session here: https://lnkd.in/eFCdq4zY
URL:https://innovationcluster.com.au/event/harvest-agtech-accelerator-info-session-insights-opportunities/
LOCATION:Western Australia
ATTACH;FMTTYPE=image/png:https://innovationcluster.com.au/wp-content/uploads/2025/03/HARVEST-2025-Promo-Instagram-Sizing.png
END:VEVENT
BEGIN:VEVENT
DTSTART;TZID=Australia/Perth:20250409T083000
DTEND;TZID=Australia/Perth:20250409T120000
DTSTAMP:20260422T061356
CREATED:20250313T033016Z
LAST-MODIFIED:20250313T052604Z
UID:6931-1744187400-1744200000@innovationcluster.com.au
SUMMARY:earlyHARVEST Agtech Pre-Accelerator Workshop
DESCRIPTION:The HARVEST Agtech Pre-Accelerator Workshop will be led by Natasha Teakle\, Managing Director of AgriStart and will focus on key aspects of the Agtech sector\, including understanding industry challenges\, identifying target customers\, refining value propositions\, and validating ideas.  \nDate: Wednesday 9th April \nTime: 8.30am – 12pm \nLocation: Wrays\, Level 7\, 863 Hay Street\, Perth \nFacilitator: Tash Teakle\, Managing Director AgriStart \nMorning Tea & Lunch provided \n  \nTopics Covered: \n\nAgtech sector challenges and opportunities\nTarget customers and ag industry stakeholders\nValue propositions for agriculture\nValidating with customers/users/beneficiaries\nSupport to commercialise agtech\nIntellectual property\n\n  \nThis is an invaluable session suitable for researchers looking to commercialise their innovations\, businesses looking to apply their technology in the agricultural sector\, and farmers who have developed new technology. \nAnd will highlight the benefits of the HARVEST Agtech Accelerator program which is currently open for applications. 
URL:https://innovationcluster.com.au/event/earlyharvest-agtech-pre-accelerator-workshop/
LOCATION:Wrays\, Wrays\, Level 7\, 863 Hay Street\, Perth\, Perth\, Western Australia\, 6000\, Australia
ATTACH;FMTTYPE=image/png:https://innovationcluster.com.au/wp-content/uploads/2025/03/earlyHARVEST-Socials-Post-1080-x-1080-px-1.png
END:VEVENT
BEGIN:VEVENT
DTSTART;TZID=Australia/Perth:20250505T170000
DTEND;TZID=Australia/Perth:20250505T170000
DTSTAMP:20260422T061356
CREATED:20250505T011647Z
LAST-MODIFIED:20250505T011647Z
UID:7085-1746464400-1746464400@innovationcluster.com.au
SUMMARY:HARVEST Applications Close
DESCRIPTION:
URL:https://innovationcluster.com.au/event/harvest-applications-close/
LOCATION:Western Australia
END:VEVENT
BEGIN:VEVENT
DTSTART;TZID=Australia/Perth:20250523T170000
DTEND;TZID=Australia/Perth:20250523T190000
DTSTAMP:20260422T061356
CREATED:20250505T013056Z
LAST-MODIFIED:20250505T013119Z
UID:7097-1748019600-1748026800@innovationcluster.com.au
SUMMARY:Future Founders Showcase
DESCRIPTION:
URL:https://innovationcluster.com.au/event/future-founders-showcase/
LOCATION:The Goose\, 15 Foreshore Parade\, Busselton\, WA\, 6280\, Australia
ATTACH;FMTTYPE=image/png:https://innovationcluster.com.au/wp-content/uploads/2025/05/Future-Founders-Showcase-2024-Humanitix.png
END:VEVENT
BEGIN:VEVENT
DTSTART;TZID=Australia/Perth:20250623T080000
DTEND;TZID=Australia/Perth:20250624T170000
DTSTAMP:20260422T061356
CREATED:20250505T012054Z
LAST-MODIFIED:20250505T012148Z
UID:7087-1750665600-1750784400@innovationcluster.com.au
SUMMARY:HARVEST Muresk Two-Day Business Bootcamp
DESCRIPTION:
URL:https://innovationcluster.com.au/event/harvest-muresk-two-day-business-bootcamp/
LOCATION:Western Australia
ATTACH;FMTTYPE=image/jpeg:https://innovationcluster.com.au/wp-content/uploads/2025/05/0fd72a27-7f41-4c65-b017-ad4d964a23a5-copy-2.jpg
END:VEVENT
BEGIN:VEVENT
DTSTART;TZID=Australia/Perth:20250627T080000
DTEND;TZID=Australia/Perth:20250627T170000
DTSTAMP:20260422T061356
CREATED:20250604T063036Z
LAST-MODIFIED:20250604T063654Z
UID:7547-1751011200-1751043600@innovationcluster.com.au
SUMMARY:Farm Business Resilience Program Expressions of Interest Close
DESCRIPTION:
URL:https://innovationcluster.com.au/event/farm-business-resilience-program-expressions-of-interest-close/
LOCATION:Western Australia
ATTACH;FMTTYPE=image/jpeg:https://innovationcluster.com.au/wp-content/uploads/2025/06/2025-FBR-Family-1.jpg
ORGANIZER;CN="AgriStart":MAILTO:info@innovationcluster.com.au
END:VEVENT
BEGIN:VEVENT
DTSTART;TZID=Australia/Perth:20250824T080000
DTEND;TZID=Australia/Perth:20250826T170000
DTSTAMP:20260422T061356
CREATED:20250505T012330Z
LAST-MODIFIED:20250505T012330Z
UID:7090-1756022400-1756227600@innovationcluster.com.au
SUMMARY:HARVEST Field Trip
DESCRIPTION:
URL:https://innovationcluster.com.au/event/harvest-field-trip/
LOCATION:Western Australia
ATTACH;FMTTYPE=image/jpeg:https://innovationcluster.com.au/wp-content/uploads/2025/05/aedfbd3b-fedf-4730-9b04-b1d659851853.jpg
END:VEVENT
BEGIN:VEVENT
DTSTART;TZID=Australia/Perth:20250909T170000
DTEND;TZID=Australia/Perth:20250909T190000
DTSTAMP:20260422T061356
CREATED:20250505T012907Z
LAST-MODIFIED:20250723T012646Z
UID:7093-1757437200-1757444400@innovationcluster.com.au
SUMMARY:HARVEST Showcase Event & Pitch Night
DESCRIPTION:You are invited to the 2025 HARVEST Agtech Innovation Showcase & Pitch Night on the 9 September\, 2025.\nWe look forward to seeing you. \nRead more about this year’s 2025 Harvest Agtech Innovators here. \n 
URL:https://innovationcluster.com.au/event/harvest-showcase-event-pitch-night/
LOCATION:Burswood On Swan\, 1 Camfield Drive\, Burswood\, WA\, 6100\, Australia
ATTACH;FMTTYPE=image/jpeg:https://innovationcluster.com.au/wp-content/uploads/2025/05/2025-Harvest-Showcase-Humanitix-1.jpg
END:VEVENT
BEGIN:VEVENT
DTSTART;TZID=Australia/Perth:20250917T080000
DTEND;TZID=Australia/Perth:20250917T170000
DTSTAMP:20260422T061356
CREATED:20250923T005407Z
LAST-MODIFIED:20250923T005431Z
UID:8698-1758096000-1758128400@innovationcluster.com.au
SUMMARY:LEEF Launch
DESCRIPTION:
URL:https://innovationcluster.com.au/event/leef-launch/
LOCATION:The SET\, 1/25 Burler Drive\, Vasse\, Australia
ATTACH;FMTTYPE=image/png:https://innovationcluster.com.au/wp-content/uploads/2025/08/LEEF-Logo.png
END:VEVENT
BEGIN:VEVENT
DTSTART;TZID=Australia/Perth:20250918T150000
DTEND;TZID=Australia/Perth:20250918T183000
DTSTAMP:20260422T061356
CREATED:20250811T015743Z
LAST-MODIFIED:20250905T063715Z
UID:8367-1758207600-1758220200@innovationcluster.com.au
SUMMARY:Future Founders Youth Entrepreneurship Emergence Event
DESCRIPTION:
URL:https://innovationcluster.com.au/event/future-founders-youth-entrepreneurship-emergence-event/
LOCATION:Western Australia
ATTACH;FMTTYPE=image/png:https://innovationcluster.com.au/wp-content/uploads/2025/06/FUTURE-FOUNDERS-1080x800px.png
END:VEVENT
BEGIN:VEVENT
DTSTART;TZID=Australia/Melbourne:20260216T123000
DTEND;TZID=Australia/Melbourne:20260216T180000
DTSTAMP:20260422T061356
CREATED:20251125T030705Z
LAST-MODIFIED:20251125T031333Z
UID:9171-1771245000-1771264800@innovationcluster.com.au
SUMMARY:AgriSpace Melbourne Investor Tour: evokeAg Side Event
DESCRIPTION:The 2026 AgriSpace Melbourne Investor Tour is a side event of evokeAg 2026. \nAudience – investors/growers/startups. \n  \nTickets limited to only 25 people for this exclusive tour building linkages between investors\, growers and startups. \nPrice includes bus transport\, exclusive tours at two Melbourne based innovative agtech businesses – Ornata Ag and MEQ probe\, startup pitches and strategies for agtech angel investing. \nTour will also include drinks and canapes at Mountain Culture Brewing\, where guests will hear from Emily Tankey of Better Together Brewing about securing Australia’s supply chain for craft brewing inputs as well as provenance. \n  \nJoin AgriSpace now: www.agrispace.com.au \n  \n12:30pm: Depart Melbourne CBD \n1:00pm – 2:30pm: MEQ Probe \n3:00pm – 4:00pm: Ornata Ag Remote Ops Centre \n4:00pm-5:45pm: Sundowner at Mountain Culture Brewing \n6:00pm: Afloat for evokeAG Welcome Dinner
URL:https://innovationcluster.com.au/event/agrispace-melbourne-investor-tour-evokeag-side-event/
LOCATION:Melbourne\, Melbourne\, Victoria\, Australia
ATTACH;FMTTYPE=image/webp:https://innovationcluster.com.au/wp-content/uploads/2025/11/Big-Sprayer-with-Long-Arms-at-the-Arable-Field-Makes-Fertilizers-in-Early-Spring-View-with-Clouds.webp
ORGANIZER;CN="AgriStart":MAILTO:info@innovationcluster.com.au
END:VEVENT
BEGIN:VEVENT
DTSTART;VALUE=DATE:20260312
DTEND;VALUE=DATE:20260314
DTSTAMP:20260422T061356
CREATED:20251125T031718Z
LAST-MODIFIED:20251125T031718Z
UID:9187-1773273600-1773446399@innovationcluster.com.au
SUMMARY:BioInnovation Festival - Regional Innovation Summit
DESCRIPTION:Regional Innovation Summit & Down South adVentures Tour \nThe Regional Component of the 2026 BioInnovation Festival \nJoin us in Western Australia’s iconic South West for the regional flagship events of the 2026 BioInnovation Festival — a two-day experience designed to connect investors\, innovators\, industry leaders\, and government stakeholders with the people and ideas shaping the future of regional innovation. \nJoin us for the two full days or pick between the Down South adVentures Tour on Thursday or Regional Innovation Summit on Friday! \n\nDown South adVentures Tour — Thursday 12 March\nA curated\, high-value investor and stakeholder tour travelling from Perth to Yallingup\, visiting standout innovation sites\, regional businesses\, and emerging ventures across agtech\, bluetech\, and healthtech. \nParticipants will experience WA’s South West innovation landscape up close\, meet founders and industry leaders\, and enjoy an evening of cultural immersion through a guided Koomal Dreaming cave experience and bush-inspired dining in Yallingup. \nPerfect for investors\, policymakers\, and partners seeking real insights\, connections\, and collaboration opportunities in regional innovation. \n\nRegional Innovation Summit — Friday 13 March\nHosted at the historic Caves House\, the Summit is intentionally designed as an intimate\, roundtable-style gathering\, bringing together 90 regional and national changemakers for a highly interactive day of keynotes\, panels\, networking\, and startup pitches. \nRather than a traditional conference format\, participants sit in facilitated table groups — working collaboratively to unpack challenges\, share expertise\, and co-design tangible\, actionable outcomes for the future of WA’s regional innovation ecosystem. This format encourages deeper conversations\, stronger connections\, and richer cross-sector collaboration. \nFocused on the critical growth areas shaping a resilient\, sustainable regional economy — including future food\, productive oceans\, environmental technology\, and health and medical innovation — the Summit blends global perspectives with regional case studies to drive practical momentum. \n\nWhy Attend?\n\nConnect with founders\, investors\, researchers\, industry experts\, and government leaders\nAccess on-the-ground insights into WA’s emerging ventures and innovation assets\nExperience uniquely curated regional and cultural experiences\nCollaborate in small-group settings to shape actionable outcomes for the South West innovation ecosystem\nBe part of the BioInnovation Festival’s commitment to advancing life sciences\, technology\, and sustainable industries across WA\n\n\nWhether you join the Tour\, the Summit\, or the full two-day experience\, this regional component of the BioInnovation Festival offers unmatched access\, inspiration\, and connection — all set against the backdrop of one of Australia’s most remarkable innovation regions.
URL:https://innovationcluster.com.au/event/bioinnovation-festival-regional-innovation-summit/
LOCATION:Caves House Yallingup\, 18 Yallingup Beach Rd\,\, Yallingup\, Western Australia\, 6282
ATTACH;FMTTYPE=image/png:https://innovationcluster.com.au/wp-content/uploads/2025/11/Banner-REGIONAL-INNOVATION-TOUR-SUMMIT-scaled.png
ORGANIZER;CN="Innovation Cluster":MAILTO:info@innovationcluster.com.au
END:VEVENT
END:VCALENDAR