BEGIN:VCALENDAR
VERSION:2.0
PRODID:-//Innovation Cluster - ECPv6.15.20//NONSGML v1.0//EN
CALSCALE:GREGORIAN
METHOD:PUBLISH
X-ORIGINAL-URL:https://innovationcluster.com.au
X-WR-CALDESC:Events for Innovation Cluster
REFRESH-INTERVAL;VALUE=DURATION:PT1H
X-Robots-Tag:noindex
X-PUBLISHED-TTL:PT1H
BEGIN:VTIMEZONE
TZID:Australia/Perth
BEGIN:STANDARD
TZOFFSETFROM:+0800
TZOFFSETTO:+0800
TZNAME:AWST
DTSTART:20200101T000000
END:STANDARD
END:VTIMEZONE
BEGIN:VEVENT
DTSTART;VALUE=DATE:20210818
DTEND;VALUE=DATE:20210821
DTSTAMP:20260425T024315
CREATED:20210806T045610Z
LAST-MODIFIED:20210806T045610Z
UID:1178-1629244800-1629503999@innovationcluster.com.au
SUMMARY:KIMBERLEY ECONOMIC FORUM 2021
DESCRIPTION:The Kimberley Economic Forum is a partnership between the Chambers of Commerce in the East Kimberley\, Derby and Broome\, facilitating conversations and networking between trade organisation’s\, government agencies\, investors\, industry and media. This event is key for any economic development in the Kimberley region. \n2021’s Kimberley Economic Forum “Looking North” is an exciting line up of what’s happening in the in the heart of the Kimberley. #LookingNorth #KEF #Kununurra #Kimberley. The Forum will be held in various locations across the vast and stunning East Kimberley allowing you to experience first hand what all those presentations in the past have been about.
URL:https://innovationcluster.com.au/event/kimberley-economic-forum-2021/
LOCATION:Kununnurra\, Australia
ATTACH;FMTTYPE=image/png:https://innovationcluster.com.au/wp-content/uploads/2021/08/KEF.png
END:VEVENT
END:VCALENDAR