BEGIN:VCALENDAR
VERSION:2.0
PRODID:-//Innovation Cluster - ECPv6.15.20//NONSGML v1.0//EN
CALSCALE:GREGORIAN
METHOD:PUBLISH
X-ORIGINAL-URL:https://innovationcluster.com.au
X-WR-CALDESC:Events for Innovation Cluster
REFRESH-INTERVAL;VALUE=DURATION:PT1H
X-Robots-Tag:noindex
X-PUBLISHED-TTL:PT1H
BEGIN:VTIMEZONE
TZID:Australia/Perth
BEGIN:STANDARD
TZOFFSETFROM:+0800
TZOFFSETTO:+0800
TZNAME:AWST
DTSTART:20200101T000000
END:STANDARD
END:VTIMEZONE
BEGIN:VEVENT
DTSTART;VALUE=DATE:20210517
DTEND;VALUE=DATE:20210518
DTSTAMP:20260425T093935
CREATED:20210504T031951Z
LAST-MODIFIED:20210504T224918Z
UID:808-1621209600-1621295999@innovationcluster.com.au
SUMMARY:Start Up Network Applications Close
DESCRIPTION:AgriStart has joined forces with evokeAG to bring agrifood innovators the Startup Network Program.\n\n\nThe program aims to build the networks and capability of Australian agrifood startups to support adoption of new technologies on-farm.\n\n\nSuccessful participants will receive a travel bursary\, and will participate in a pitchcraft workshop\, and an adoption workshop alongside growers and will culminate in a pitch event directly to growers.\n\n\nApplications close  Monday 17th May\, 3pm AWST.  Find all the details here > https://bit.ly/2QxWfWI
URL:https://innovationcluster.com.au/event/start-up-network-applications-close/
ATTACH;FMTTYPE=image/jpeg:https://innovationcluster.com.au/wp-content/uploads/2021/05/Applications-close_square-scaled-e1620098435166.jpg
ORGANIZER;CN="AgriStart":MAILTO:info@innovationcluster.com.au
END:VEVENT
END:VCALENDAR